BEGIN:VCALENDAR
VERSION:2.0
PRODID:-//Tukios.com/
BEGIN:VEVENT
UID:708ac340-249c-4f38-9994-c7892a2d0d0b@www.riverafamilyfuneralhome.com
DTSTAMP:20260422T001404Z
DTSTART:20260502T183000Z
DTEND:20260502T210000Z
SUMMARY:Luncheon
DESCRIPTION:
URL:https://www.riverafamilyfuneralhome.com/obituaries/zoe-coronado
LOCATION:Elk's Lodge 640 E Elva St  Idaho Falls ID 83401
GEO:43.5036061;-112.0203717
END:VEVENT
END:VCALENDAR