BEGIN:VCALENDAR
VERSION:2.0
PRODID:-//Tukios.com/
BEGIN:VEVENT
UID:f04ded62-b837-484d-835b-ce366fded141@www.riverafamilyfuneralhome.com
DTSTAMP:20260422T001611Z
DTSTART:20260502T160000Z
DTEND:20260502T180000Z
SUMMARY:Funeral Service
DESCRIPTION:Gathering with family at 10 am, funeral service at 11 am, 
	lunch reception to follow at Elk's Lodge
URL:https://www.riverafamilyfuneralhome.com/obituaries/zoe-coronado
LOCATION: 273 N Ridge Ave  Idaho Falls ID 83402
GEO:43.4900945;-112.0361845
END:VEVENT
END:VCALENDAR