BEGIN:VCALENDAR
VERSION:2.0
PRODID:-//Tukios.com/
BEGIN:VEVENT
UID:add1bbf4-fd18-4b67-b4da-d8e423460565@www.riverafamilyfuneralhome.com
DTSTAMP:20260422T001446Z
DTSTART:20260425T180000Z
DTEND:20260425T200000Z
SUMMARY:Memorial Gathering
DESCRIPTION:Light refreshments and sharing of memories
URL:https://www.riverafamilyfuneralhome.com/obituaries/zoe-coronado
LOCATION: 305 Calle Salazar  Espanola NM 87532
GEO:35.9907258;-106.0757971
END:VEVENT
END:VCALENDAR