BEGIN:VCALENDAR
VERSION:2.0
PRODID:-//Tukios.com/
BEGIN:VEVENT
UID:66d02998-9825-4aee-adc9-1eb3c9af7be8@www.riverafamilyfuneralhome.com
DTSTAMP:20260424T223501Z
DTSTART:20260524T190000Z
DTEND:20260524T200000Z
SUMMARY:Celebration of Life
DESCRIPTION:
URL:https://www.riverafamilyfuneralhome.com/obituaries/robert-bobby-rael
LOCATION:Moose Lodge Moose Lodge  Silver City NM 88061
GEO:32.7886619;-108.2568893
END:VEVENT
END:VCALENDAR