BEGIN:VCALENDAR
VERSION:2.0
PRODID:-//Tukios.com/
BEGIN:VEVENT
UID:dd65b4c3-e5f0-4a01-b22c-dd6abb6ccb38@www.riverafamilyfuneralhome.com
DTSTAMP:20260424T223328Z
DTSTART:20260502T170000Z
DTEND:20260502T180000Z
SUMMARY:Funeral Service
DESCRIPTION:
URL:https://www.riverafamilyfuneralhome.com/obituaries/robert-bobby-rael
LOCATION:Santo Niño Catholic Church Santo Niño Catholic Church  Aragon 
	NM 87820
GEO:33.8812844;-108.5389602
END:VEVENT
END:VCALENDAR