BEGIN:VCALENDAR
VERSION:2.0
PRODID:-//Tukios.com/
BEGIN:VEVENT
UID:ae3d7fa4-d653-420b-8d40-0bc287e0153e@www.riverafamilyfuneralhome.com
DTSTAMP:20260424T223258Z
DTSTART:20260502T170000Z
DTEND:20260502T180000Z
SUMMARY:Mass
DESCRIPTION:
URL:https://www.riverafamilyfuneralhome.com/obituaries/robert-bobby-rael
LOCATION:Santo Niño Catholic Church 1627 A Central Avenue  Los Alamos NM 
	87544
GEO:35.8809103;-106.2998836
END:VEVENT
END:VCALENDAR