BEGIN:VCALENDAR
VERSION:2.0
PRODID:-//Tukios.com/
BEGIN:VEVENT
UID:37eaefab-4a1f-4a26-bbf0-bf80a01911f1@www.riverafamilyfuneralhome.com
DTSTAMP:20260424T223507Z
DTSTART:20260502T163000Z
DTEND:20260502T173000Z
SUMMARY:Rosary
DESCRIPTION:
URL:https://www.riverafamilyfuneralhome.com/obituaries/robert-bobby-rael
LOCATION:Santo Niño Catholic Church 1627 A Central Avenue  Los Alamos NM 
	87544
GEO:35.8809103;-106.2998836
END:VEVENT
END:VCALENDAR